BEGIN:VCALENDAR
VERSION:2.0
PRODID:-//tc-schwalheim.de - ECPv6.15.20//NONSGML v1.0//EN
CALSCALE:GREGORIAN
METHOD:PUBLISH
X-WR-CALNAME:tc-schwalheim.de
X-ORIGINAL-URL:https://tc-schwalheim.de
X-WR-CALDESC:Veranstaltungen für tc-schwalheim.de
REFRESH-INTERVAL;VALUE=DURATION:PT1H
X-Robots-Tag:noindex
X-PUBLISHED-TTL:PT1H
BEGIN:VTIMEZONE
TZID:Europe/Berlin
BEGIN:DAYLIGHT
TZOFFSETFROM:+0100
TZOFFSETTO:+0200
TZNAME:CEST
DTSTART:20250330T010000
END:DAYLIGHT
BEGIN:STANDARD
TZOFFSETFROM:+0200
TZOFFSETTO:+0100
TZNAME:CET
DTSTART:20251026T010000
END:STANDARD
BEGIN:DAYLIGHT
TZOFFSETFROM:+0100
TZOFFSETTO:+0200
TZNAME:CEST
DTSTART:20260329T010000
END:DAYLIGHT
BEGIN:STANDARD
TZOFFSETFROM:+0200
TZOFFSETTO:+0100
TZNAME:CET
DTSTART:20261025T010000
END:STANDARD
BEGIN:DAYLIGHT
TZOFFSETFROM:+0100
TZOFFSETTO:+0200
TZNAME:CEST
DTSTART:20270328T010000
END:DAYLIGHT
BEGIN:STANDARD
TZOFFSETFROM:+0200
TZOFFSETTO:+0100
TZNAME:CET
DTSTART:20271031T010000
END:STANDARD
END:VTIMEZONE
BEGIN:VEVENT
DTSTART;TZID=Europe/Berlin:20260503T103000
DTEND;TZID=Europe/Berlin:20260503T140000
DTSTAMP:20260421T122547
CREATED:20251202T195848Z
LAST-MODIFIED:20251213T101019Z
UID:760-1777804200-1777816800@tc-schwalheim.de
SUMMARY:Schleifchenturnier
DESCRIPTION:Unser traditionelles Mixed-Schleifchenturnier zum Saisonbeginn.
URL:https://tc-schwalheim.de/termin/schleifchenturnier/
END:VEVENT
BEGIN:VEVENT
DTSTART;VALUE=DATE:20260509
DTEND;VALUE=DATE:20260511
DTSTAMP:20260421T122547
CREATED:20251202T203828Z
LAST-MODIFIED:20251215T193829Z
UID:766-1778284800-1778457599@tc-schwalheim.de
SUMMARY:Beginn Medenrunde
DESCRIPTION:Erster Spieltag der Medenrunde 2026.
URL:https://tc-schwalheim.de/termin/beginn-medenrunde/
END:VEVENT
BEGIN:VEVENT
DTSTART;TZID=Europe/Berlin:20260606T180000
DTEND;TZID=Europe/Berlin:20260606T230000
DTSTAMP:20260421T122547
CREATED:20251215T194103Z
LAST-MODIFIED:20251215T194204Z
UID:801-1780768800-1780786800@tc-schwalheim.de
SUMMARY:Sommerfest
DESCRIPTION:
URL:https://tc-schwalheim.de/termin/sommerfest/
END:VEVENT
BEGIN:VEVENT
DTSTART;VALUE=DATE:20260808
DTEND;VALUE=DATE:20260809
DTSTAMP:20260421T122547
CREATED:20251215T193935Z
LAST-MODIFIED:20251215T193935Z
UID:797-1786147200-1786233599@tc-schwalheim.de
SUMMARY:2. Schwalheimer Fun-Damen-Doppelturnier
DESCRIPTION:
URL:https://tc-schwalheim.de/termin/2-schwalheimer-fun-damen-doppelturnier/
END:VEVENT
BEGIN:VEVENT
DTSTART;VALUE=DATE:20260809
DTEND;VALUE=DATE:20260810
DTSTAMP:20260421T122547
CREATED:20251215T194030Z
LAST-MODIFIED:20251215T194030Z
UID:799-1786233600-1786319999@tc-schwalheim.de
SUMMARY:Herren Schoppen-Turnier
DESCRIPTION:Möglicher Termin für ein Herren Schoppen-Turnier. \nGenaue Planung wird noch abgestimmt.
URL:https://tc-schwalheim.de/termin/herren-schoppen-turnier/
END:VEVENT
BEGIN:VEVENT
DTSTART;VALUE=DATE:20260912
DTEND;VALUE=DATE:20260913
DTSTAMP:20260421T122547
CREATED:20251202T203922Z
LAST-MODIFIED:20251213T100652Z
UID:768-1789171200-1789257599@tc-schwalheim.de
SUMMARY:Finale Vereinsmeisterschaften
DESCRIPTION:Finalspiele der Vereinsmeisterschaften. \nDetails folgen…
URL:https://tc-schwalheim.de/termin/finale-vereinsmeisterschaften/
END:VEVENT
BEGIN:VEVENT
DTSTART;TZID=Europe/Berlin:20260927T103000
DTEND;TZID=Europe/Berlin:20260927T140000
DTSTAMP:20260421T122547
CREATED:20251202T204018Z
LAST-MODIFIED:20251213T100601Z
UID:770-1790505000-1790517600@tc-schwalheim.de
SUMMARY:Schleifchenturnier
DESCRIPTION:Unser traditionelles Mixed-Schleifchentrunier zum Saisonende.
URL:https://tc-schwalheim.de/termin/schleifchenturnier-2/
END:VEVENT
BEGIN:VEVENT
DTSTART;TZID=Europe/Berlin:20261128T190000
DTEND;TZID=Europe/Berlin:20261128T235900
DTSTAMP:20260421T122547
CREATED:20251202T204229Z
LAST-MODIFIED:20251213T100542Z
UID:772-1795892400-1795910340@tc-schwalheim.de
SUMMARY:Jahresabschlussfeier
DESCRIPTION:Unsere Feier zum Saison und Jahresabschluss. Lasst uns gemeinsam\, bei gutem Essen und leckeren Getränken\, auf die Saison zurückblicken.
URL:https://tc-schwalheim.de/termin/jahresabschlussfeier/
END:VEVENT
END:VCALENDAR